BEGIN:VCALENDAR
VERSION:2.0
PRODID:-//eventon.com NONSGML v1.0//EN
CALSCALE:GREGORIAN
METHOD:PUBLISH
BEGIN:VEVENT
UID:69e789bfcc717
DTSTAMP:20260421T142919Z
DTSTART:20260606T110000Z
DTEND:20260606T150000Z
LOCATION:Kreismuseum Prinzeßhof Kirchenstr. 20\,  Itzehoe\,  Schleswig-Holstein 25524\,  Itzehoe
SUMMARY:SOMMERFEST IM PRINZESSHOFPARK
DESCRIPTION:Das Kreismuseum Prinzeßhof lädt herzlich ein zum großen Somm
 erfest im Prinzeßhofpark! Am Samstag\,  den 06. Juni 2026\,  erwartet Besu
 cher*innen ein abwechslungsreicher Nachmittag mit Kunst\,  Kultur und Mitma
 chaktionen für die ganze Familie – draußen im Grünen und im Museum. De
 r Eintritt zum Fest und in alle Ausstellungen ist frei. Wichtiger Hinweis:[
 ..]\nhttps://schleswig-holstein.sh/blog/veranstaltungen/sommerfest-im-prinz
 esshofpark-2/
URL:https://schleswig-holstein.sh/blog/veranstaltungen/sommerfest-im-prinzesshofpark-2/
END:VEVENT
END:VCALENDAR