BEGIN:VCALENDAR
VERSION:2.0
PRODID:-//eventon.com NONSGML v1.0//EN
CALSCALE:GREGORIAN
METHOD:PUBLISH
BEGIN:VEVENT
UID:69e73b41ccb22
DTSTAMP:20260421T085425Z
DTSTART:20260312T170000Z
DTEND:20260312T183000Z
LOCATION:Kreismuseum Prinzeßhof Kirchenstr. 20\,  Itzehoe\,  Schleswig-Holstein 25524\,  Itzehoe
SUMMARY:Lesung von Florian Knöppler aus dem neuen Roman „Mit dem ersten Licht“
DESCRIPTION:Am 12. März 2026 um 18:00 Uhr lädt das Kreismuseum Prinzeßho
 f zu einer Lesung mit dem Schriftsteller Florian Knöppler ein. Vorgestellt
  wird sein neuer Roman „Mit dem ersten Licht“\,  der am 4. März 2026 e
 rscheint. Im Mittelpunkt des Romans steht Arne\,  der trotz liebevoller Fam
 ilie und guter Freunde in tiefer[..]\nhttps://schleswig-holstein.sh/blog/ve
 ranstaltungen/lesung-von-florian-knoeppler-aus-dem-neuen-roman-mit-dem-erst
 en-licht/
URL:https://schleswig-holstein.sh/blog/veranstaltungen/lesung-von-florian-knoeppler-aus-dem-neuen-roman-mit-dem-ersten-licht/
END:VEVENT
END:VCALENDAR