BEGIN:VCALENDAR
VERSION:2.0
PRODID:-//eventon.com NONSGML v1.0//EN
CALSCALE:GREGORIAN
METHOD:PUBLISH
BEGIN:VEVENT
UID:69e789c51cb84
DTSTAMP:20260421T142925Z
DTSTART:20260415T160000Z
DTEND:20260415T173000Z
LOCATION:Kreismuseum Prinzeßhof Kirchenstr. 20\,  Itzehoe\,  Schleswig-Holstein 25524\,  Itzehoe
SUMMARY:Kokoschka und die Wiener Moderne
DESCRIPTION:Kokoschka und die Wiener Moderne. Vortrag von Dominique Kielhol
 z-Büttner. Kosten: 8 Euro (erm. 5 Euro) Anmeldung über prinzesshof@steinb
 urg.de Startdatum 15.04.2026\,  18:00 &#8211; 19:30 Preis 8 €\nhttps://sc
 hleswig-holstein.sh/blog/veranstaltungen/kokoschka-und-die-wiener-moderne/
URL:https://schleswig-holstein.sh/blog/veranstaltungen/kokoschka-und-die-wiener-moderne/
END:VEVENT
END:VCALENDAR