BEGIN:VCALENDAR
VERSION:2.0
PRODID:-//eventon.com NONSGML v1.0//EN
CALSCALE:GREGORIAN
METHOD:PUBLISH
BEGIN:VEVENT
UID:69e772cfe6aa5
DTSTAMP:20260421T125127Z
DTSTART:20260517T100000Z
DTEND:20260517T150000Z
LOCATION:Kreismuseum Prinzeßhof Kirchenstr. 20\,  Itzehoe\,  Schleswig-Holstein 25524\,  Itzehoe
SUMMARY:INTERNATIONALER MUSEUMSTAG
DESCRIPTION:Zum Internationalen Museumstag laden wir Sie herzlich ein\,  da
 s Kreismuseum Prinzeßhof bei freiem Eintritt zu besuchen und ein abwechslu
 ngsreiches Programm zu erleben. Freuen Sie sich auf spannende Führungen\, 
  kreative Mitmachaktionen und eine außergewöhnliche Sonderausstellung! St
 artdatum 17.05.2026\,  12:00 &#8211; 17:00 Preis Kostenlos\nhttps://schlesw
 ig-holstein.sh/blog/veranstaltungen/internationaler-museumstag-2/
URL:https://schleswig-holstein.sh/blog/veranstaltungen/internationaler-museumstag-2/
END:VEVENT
END:VCALENDAR