BEGIN:VCALENDAR
VERSION:2.0
PRODID:-//eventon.com NONSGML v1.0//EN
CALSCALE:GREGORIAN
METHOD:PUBLISH
BEGIN:VEVENT
UID:69e74c4fa75f8
DTSTAMP:20260421T100711Z
DTSTART:20260328T190000Z
DTEND:20260328T210000Z
LOCATION:Lily B. Stage Club Lily-Braun-Straße 1\,  23843 Bad Oldesloe
SUMMARY:Blues Horizon  -  Live im Lily B.
DESCRIPTION:BLUES NIGHT mit BLUES HORIZON Blues statt News: Immer nur Nachr
 ichten &#8211; ob Gute oder Schlechte &#8211; das geht auf Dauer ohne Ausgl
 eich nicht. Das hat sich wohl auch der NDR-Nachrichtensprecher Rene Steuder
  gesagt und zur Gitarre gegriffen\,  um mit Gleichgesinnten Musik zu machen
 \,  die von Herz und Bauch bestimmt[..]\nhttps://schleswig-holstein.sh/blog
 /veranstaltungen/blues-horizon-live-im-lily-b/
URL:https://schleswig-holstein.sh/blog/veranstaltungen/blues-horizon-live-im-lily-b/
END:VEVENT
END:VCALENDAR