BEGIN:VCALENDAR
VERSION:2.0
PRODID:-//eventon.com NONSGML v1.0//EN
CALSCALE:GREGORIAN
METHOD:PUBLISH
BEGIN:VEVENT
UID:69e7b274edcaf
DTSTAMP:20260421T172300Z
DTSTART:20260628T170000Z
DTEND:20260628T180000Z
LOCATION:Katharinenkirche zu Großenaspe Kirchstraße\,  24623 Großenaspe
SUMMARY:BROKEN CONSORT
DESCRIPTION:Wir haben schon mehrfach Werke von William Brade und Johann Som
 mer sowie John Dowland gespielt. Diese Meister hatten ja Verbindung zum Got
 torfer Hof in Schleswig und dort gab es in der Zeit zwischen 1600 und 1620 
 viele Virtuosen aller Couleur die dort aufspielten\,  dementsprechend wird 
 vermutlich auch im BROKEN CONSORT\, [..]\nhttps://schleswig-holstein.sh/blo
 g/veranstaltungen/broken-consort-3/var/ri-1.l-L1
URL:https://schleswig-holstein.sh/blog/veranstaltungen/broken-consort-3/var/ri-1.l-L1
END:VEVENT
END:VCALENDAR