BEGIN:VCALENDAR
VERSION:2.0
PRODID:-//eventon.com NONSGML v1.0//EN
CALSCALE:GREGORIAN
METHOD:PUBLISH
BEGIN:VEVENT
UID:69e7728e8440d
DTSTAMP:20260421T125022Z
DTSTART:20260628T160000Z
DTEND:20260628T170000Z
LOCATION:St. Laurentiuskirche An der Kirche 3 ·\,  Munkbrarup 24960
SUMMARY:BROKEN CONSORT
DESCRIPTION:Kirchstraße\,  24623 Großenaspe Wir haben schon mehrfach Werk
 e von William Brade und Johann Sommer sowie John Dowland gespielt. Diese Me
 ister hatten ja Verbindung zum Gottorfer Hof in Schleswig und dort gab es i
 n der Zeit zwischen 1600 und 1620 viele Virtuosen aller Couleur die dort au
 fspielten\,  dementsprechend wird vermutlich auch[..]\nhttps://schleswig-ho
 lstein.sh/blog/veranstaltungen/broken-consort-2/
URL:https://schleswig-holstein.sh/blog/veranstaltungen/broken-consort-2/
END:VEVENT
END:VCALENDAR