BEGIN:VCALENDAR
VERSION:2.0
PRODID:-//eventon.com NONSGML v1.0//EN
CALSCALE:GREGORIAN
METHOD:PUBLISH
BEGIN:VEVENT
UID:69ecf12aafeab
DTSTAMP:20260425T165154Z
DTSTART:20260701
DTEND:20260702
LOCATION:Galerie im Wyker Reedereigebäude Am Fähranleger 1\,  25938 Wyk auf Föhr
SUMMARY:Wyk auf Föhr: Die Betrachtung der Landschaft
DESCRIPTION:Die Serie Die Betrachtung der Landschaft zeigt Kulturlandschaft
 en Europas – Küsten\,  Wälder\,  Gebirge –\,  die längst vom Mensche
 n geformt und geordnet wurden. Auf den ersten Blick entfalten sie die Anmut
 ung einer romantischen\,  beinahe heilen Welt. Doch in den Bildern wird zug
 leich das Scheitern spürbar\,  das durch menschliche Eingriffe und die[..]
 \nhttps://schleswig-holstein.sh/blog/veranstaltungen/wyk-auf-foehr-die-betr
 achtung-der-landschaft/
URL:https://schleswig-holstein.sh/blog/veranstaltungen/wyk-auf-foehr-die-betrachtung-der-landschaft/
END:VEVENT
END:VCALENDAR