BEGIN:VCALENDAR
VERSION:2.0
PRODID:-//eventon.com NONSGML v1.0//EN
CALSCALE:GREGORIAN
METHOD:PUBLISH
BEGIN:VEVENT
UID:69e75e01f1095
DTSTAMP:20260421T112241Z
DTSTART:20260305T150000Z
DTEND:20260305T161500Z
LOCATION:Museum Kunst der Westküste Hauptstraße 1\,  25938 Alkersum
SUMMARY:Alkersum: Kunst und Yoga
DESCRIPTION:Inmitten der Ausstellung Inselhopping Föhr – Amrum\,  Sylt u
 nd Helgoland in Malerei und Fotografie laden wir Sie zu einer einzigartigen
  Yoga-Erfahrung ein\,  die Sie entspannt und inspiriert. Christina Tussing\
 ,  erfahrene Yogalehrerin und Gründerin von „Sarava – Zuhause der Leic
 htigkeit&#8220;\,  begleitet Sie durch die Stunde. Mit ihrer ruhigen und ei
 nfühlsamen Art[..]\nhttps://schleswig-holstein.sh/blog/veranstaltungen/alk
 ersum-kunst-und-yoga/
URL:https://schleswig-holstein.sh/blog/veranstaltungen/alkersum-kunst-und-yoga/
END:VEVENT
END:VCALENDAR