BEGIN:VCALENDAR
VERSION:2.0
PRODID:-//eventon.com NONSGML v1.0//EN
CALSCALE:GREGORIAN
METHOD:PUBLISH
BEGIN:VEVENT
UID:69eb510e9538a
DTSTAMP:20260424T111630Z
DTSTART:20260430T150000Z
DTEND:20260430T161500Z
LOCATION:Museum Kunst der Westküste Hauptstraße 1\,  25938 Alkersum
SUMMARY:Alkersum: Kunst und Yoga
DESCRIPTION:Inmitten der Ausstellung Inselhopping Föhr – Amrum\,  Sylt u
 nd Helgoland in Malerei und Fotografie laden wir Sie zu einer einzigartigen
  Yoga-Erfahrung ein\,  die Sie entspannt und inspiriert. Christina Tussing\
 ,  erfahrene Yogalehrerin und Gründerin von „Sarava – Zuhause der Leic
 htigkeit&#8220;\,  begleitet Sie durch die Stunde. Mit ihrer ruhigen und ei
 nfühlsamen Art[..]\nhttps://schleswig-holstein.sh/blog/veranstaltungen/alk
 ersum-kunst-und-yoga/var/ri-2.l-L1
URL:https://schleswig-holstein.sh/blog/veranstaltungen/alkersum-kunst-und-yoga/var/ri-2.l-L1
END:VEVENT
END:VCALENDAR