BEGIN:VCALENDAR
VERSION:2.0
PRODID:-//eventon.com NONSGML v1.0//EN
CALSCALE:GREGORIAN
METHOD:PUBLISH
BEGIN:VEVENT
UID:69e7728f29926
DTSTAMP:20260421T125023Z
DTSTART:20260219T070000Z
DTEND:20260818T130000Z
LOCATION:Oberlandesgericht Schleswig Gottorfstraße 2\,  24837 Schleswig
SUMMARY:tierisch nordisch
DESCRIPTION:tierisch nordisch … so der Titel der Ausstellung\,  welche gu
 t 50 Werke von Uta Masch und Heino Karschewski im Oberlandesgericht Schlesw
 ig präsentiert. Einem nordischen Impressionismus folgend entstehen mit zü
 gigem\,  manchmal ungeduldigen Strich die abstrahierten Landschaften von Ut
 a Masch in ihrem Atelier auf der Carlshöhe in Eckernförde. »Im Draußen 
 atme ich[..]\nhttps://schleswig-holstein.sh/blog/veranstaltungen/tierisch-n
 ordisch/
URL:https://schleswig-holstein.sh/blog/veranstaltungen/tierisch-nordisch/
END:VEVENT
END:VCALENDAR