BEGIN:VCALENDAR
VERSION:2.0
PRODID:-//eventon.com NONSGML v1.0//EN
CALSCALE:GREGORIAN
METHOD:PUBLISH
BEGIN:VEVENT
UID:69e6423a320e9
DTSTAMP:20260420T151154Z
DTSTART:20260316T153000Z
DTEND:20260316T170000Z
LOCATION:GemeindebÃ¼cherei BÃ¼sum An der MÃ¼hle 7\,  25761 BÃ¼sum
SUMMARY:Spielen schafft Gemeinschaft-Spielend fÃ¼r Toleranz
DESCRIPTION:Als Auftakt der â€žInternationalen Wochen gegen Rassismusâ€œ lÃ
 ¤dt die Bibliothek am Meer BÃ¼sum zu einer gemeinsamen Brettspielzeit ein. 
 Ob alleine\,  die ganze Familie\,  ob groÃŸ oder klein\,  das spielt keine 
 Rolle. Alle sind herzlich willkommen. Kinder unter 5 Jahre sollten eine erw
 achsene Begleitperson mitbringen. Spielen verbindet\,  spielen macht Freude
  und[..]\nhttps://schleswig-holstein.sh/blog/veranstaltungen/spielen-schaff
 t-gemeinschaft-spielend-fuer-toleranz/
URL:https://schleswig-holstein.sh/blog/veranstaltungen/spielen-schafft-gemeinschaft-spielend-fuer-toleranz/
END:VEVENT
END:VCALENDAR