BEGIN:VCALENDAR
VERSION:2.0
PRODID:-//eventon.com NONSGML v1.0//EN
CALSCALE:GREGORIAN
METHOD:PUBLISH
BEGIN:VEVENT
UID:69e75f815580b
DTSTAMP:20260421T112905Z
DTSTART:20260201T103000Z
DTEND:20260201T113000Z
LOCATION:Stadtmuseum Warleberger Hof Dänische Straße 19\,  24103 Kiel
SUMMARY:Sonntagsführung durch die Ausstellung "Momente einer Stadt - Fotos der Kieler Lichtbildstelle 1900 - 1950" Öffentliche Führung im Stadtmuseum Warleberger Hof
DESCRIPTION:Die Ausstellung präsentiert eine Auswahl von Fotos aus der ehe
 maligen städtischen Lichtbildstelle. Stadtmuseum Warleberger Hof\,  Dänis
 che Straße 19 Eintritt frei\nhttps://schleswig-holstein.sh/blog/veranstalt
 ungen/sonntagsfuehrung-durch-die-ausstellung-momente-einer-stadt-fotos-der-
 kieler-lichtbildstelle-1900-1950-oeffentliche-fuehrung-im-stadtmuseum-warle
 berger-hof/
URL:https://schleswig-holstein.sh/blog/veranstaltungen/sonntagsfuehrung-durch-die-ausstellung-momente-einer-stadt-fotos-der-kieler-lichtbildstelle-1900-1950-oeffentliche-fuehrung-im-stadtmuseum-warleberger-hof/
END:VEVENT
END:VCALENDAR