BEGIN:VCALENDAR
VERSION:2.0
PRODID:-//eventon.com NONSGML v1.0//EN
CALSCALE:GREGORIAN
METHOD:PUBLISH
BEGIN:VEVENT
UID:69e74bd626a79
DTSTAMP:20260421T100510Z
DTSTART:20260201T143000Z
DTEND:20260201T153000Z
LOCATION:Stadtmuseum Warleberger Hof Dänische Straße 19\,  24103 Kiel
SUMMARY:Sonntagsführung durch die Ausstellung
DESCRIPTION:Sonntagsführung durch die Ausstellung &#8222;Gestern\,  heute\
 ,  morgen. Perspektiven auf die Sammlung des Kieler Stadt- und Schifffahrts
 museums&#8220; Stadtmuseum Warleberger Hof\,  Dänische Straße 19 Eintritt
  frei\nhttps://schleswig-holstein.sh/blog/veranstaltungen/sonntagsfuehrung-
 durch-die-ausstellung-gestern-heute-morgen-perspektiven-auf-die-sammlung-de
 s-kieler-stadt-und-schifffahrtsmuseums/
URL:https://schleswig-holstein.sh/blog/veranstaltungen/sonntagsfuehrung-durch-die-ausstellung-gestern-heute-morgen-perspektiven-auf-die-sammlung-des-kieler-stadt-und-schifffahrtsmuseums/
END:VEVENT
END:VCALENDAR