BEGIN:VCALENDAR
VERSION:2.0
PRODID:-//eventon.com NONSGML v1.0//EN
CALSCALE:GREGORIAN
METHOD:PUBLISH
BEGIN:VEVENT
UID:69e77e1cea26e
DTSTAMP:20260421T133940Z
DTSTART:20260203T160000Z
DTEND:20260203T170000Z
LOCATION:Stadtmuseum Warleberger Hof Dänische Straße 19\,  24103 Kiel
SUMMARY:„Komm\,  wir finden die Silberschätze im alten Gewölbekeller“ Taschenlampenführungen für Kinder
DESCRIPTION:„Komm\,  wir finden die Silberschätze im alten Gewölbekelle
 r!“ – Taschenlampenführung für Kinder Nachdem sich die Tore des Stadt
 - und Schifffahrtsmuseums Warleberger Hof geschlossen haben\,  schleichen w
 ir im Licht eurer Taschenlampen durch die dunklen über 400 Jahre alten Mus
 eumsräume im Kellergeschoss. Unter Fachkundiger Leitung von Johanna Flügg
 e im Kostüm der Adligen[..]\nhttps://schleswig-holstein.sh/blog/veranstalt
 ungen/komm-wir-finden-die-silberschaetze-im-alten-gewoelbekeller-taschenlam
 penfuehrungen-fuer-kinder/
URL:https://schleswig-holstein.sh/blog/veranstaltungen/komm-wir-finden-die-silberschaetze-im-alten-gewoelbekeller-taschenlampenfuehrungen-fuer-kinder/
END:VEVENT
END:VCALENDAR