BEGIN:VCALENDAR
VERSION:2.0
PRODID:-//eventon.com NONSGML v1.0//EN
CALSCALE:GREGORIAN
METHOD:PUBLISH
BEGIN:VEVENT
UID:69e75f3f83742
DTSTAMP:20260421T112759Z
DTSTART:20260201T133000Z
DTEND:20260201T143000Z
LOCATION:Schifffahrtsmuseum Fischhalle Wall 65\,  24103 Kiel
SUMMARY:Sonntagsführung durch die Dauerausstellung Kiels Geschichte als Hafenstadt\,  als Marine- und Werftenstandort und als Ort des Segelsports.
DESCRIPTION:Sonntagsführungen durch die Ausstellung &#8222;Marine\,  Werft
 en\,  Segelsport“ – die Geschichte der Hafenstadt Kiel Schifffahrtsmuse
 um Fischhalle\,  Wall 65 Eintritt frei\nhttps://schleswig-holstein.sh/blog/
 veranstaltungen/sonntagsfuehrung-durch-die-dauerausstellung-kiels-geschicht
 e-als-hafenstadt-als-marine-und-werftenstandort-und-als-ort-des-segelsports
 /
URL:https://schleswig-holstein.sh/blog/veranstaltungen/sonntagsfuehrung-durch-die-dauerausstellung-kiels-geschichte-als-hafenstadt-als-marine-und-werftenstandort-und-als-ort-des-segelsports/
END:VEVENT
END:VCALENDAR