BEGIN:VCALENDAR
VERSION:2.0
PRODID:-//eventon.com NONSGML v1.0//EN
CALSCALE:GREGORIAN
METHOD:PUBLISH
BEGIN:VEVENT
UID:69e74955e6fef
DTSTAMP:20260421T095429Z
DTSTART:20260318T180000Z
DTEND:20260318T200000Z
LOCATION:Gemeindebücherei Kronshagen 24119 Kronshagen\,  Kopperpahler Allee 63
SUMMARY:Kronshagen: Lesung „AGNES IM MEER“
DESCRIPTION:Lesung am 18. März auf Einladung des Kultur Kreises Kronshagen
 . Nach „Goldener Boden“ stellt die Schriftstellerin und Journalistin Ul
 rike Dotzer ihren neuen Roman „Agnes im Meer“ vor. Wieder greift Ulrike
  Dotzer ein historisches Thema auf\,  wieder gibt es reale Vorbilder: Diese
 s Mal führt ihre Geschichte nach Trischen\,  bekannt als Vogelinsel[..]\nh
 ttps://schleswig-holstein.sh/blog/veranstaltungen/kronshagen-lesung-agnes-i
 m-meer/
URL:https://schleswig-holstein.sh/blog/veranstaltungen/kronshagen-lesung-agnes-im-meer/
END:VEVENT
END:VCALENDAR