BEGIN:VCALENDAR
VERSION:2.0
PRODID:-//eventon.com NONSGML v1.0//EN
CALSCALE:GREGORIAN
METHOD:PUBLISH
BEGIN:VEVENT
UID:69e7493233df2
DTSTAMP:20260421T095354Z
DTSTART:20260303T180000Z
DTEND:20260303T200000Z
LOCATION:Ditmarsia Meldorf Süderstraße 16\,  25704 Meldorf
SUMMARY:Feridun Zaimoglu liest Lenz
DESCRIPTION:Der Kunstverein Heide e. V. lädt im Rahmen des Projektes „10
 0. Geburtstag von Siegfried Lenz“\,  das im März 2026 vom Literaturhaus 
 SH in Kiel mit verschiedenen Kooperations-Partnern gestaltet wird\,  zu ein
 er Lesung mit Feridun Zaimoglu ein. Zwei Geschichten\,  zwei Grenzräume\, 
  zwei Gewissenskonflikte – sie kreisen um die Fragen nach Moral[..]\nhttp
 s://schleswig-holstein.sh/blog/veranstaltungen/feridun-zaimoglu-liest-lenz/
URL:https://schleswig-holstein.sh/blog/veranstaltungen/feridun-zaimoglu-liest-lenz/
END:VEVENT
END:VCALENDAR