BEGIN:VCALENDAR
VERSION:2.0
PRODID:-//eventon.com NONSGML v1.0//EN
CALSCALE:GREGORIAN
METHOD:PUBLISH
BEGIN:VEVENT
UID:69ecf66d8f57f
DTSTAMP:20260425T171421Z
DTSTART:20260419T170000Z
DTEND:20260419T190000Z
LOCATION:Hof Lübbe Dorfring 32\,  24598 Boostedt
SUMMARY:Boostedt: Hof Lübbe\,  Elderland Trio "Folk Whispers"
DESCRIPTION:Elderland spielt Hollerfolk– eine Musik\,  die tief in der Tr
 adition verwurzelt ist und zugleich neue Klangräume öffnet. Die Musikerin
 nen Anna Bottlinger (Gesang\,  Geige\,  Mandoline)\,  Maximilian Meeder (Gi
 tarre\,  Gesang) und Thekla Kersken (Cello\,  Gesang) schaffen mit ihren ei
 genen Kompositionen und Arrangements einen einzigartigen Sound\,  der Frage
 n an das Leben\,  die Gesellschaft[..]\nhttps://schleswig-holstein.sh/blog/
 veranstaltungen/boostedt-hof-luebbe-elderland-trio-folk-whispers/
URL:https://schleswig-holstein.sh/blog/veranstaltungen/boostedt-hof-luebbe-elderland-trio-folk-whispers/
END:VEVENT
END:VCALENDAR