BEGIN:VCALENDAR
VERSION:2.0
PRODID:-//eventon.com NONSGML v1.0//EN
CALSCALE:GREGORIAN
METHOD:PUBLISH
BEGIN:VEVENT
UID:69ecc2cc29e1e
DTSTAMP:20260425T133404Z
DTSTART:20260509T170000Z
DTEND:20260509T190000Z
LOCATION:Hof Lübbe Dorfring 32\,  24598 Boostedt
SUMMARY:Boostedt: Hof Lübbe\,  The LineWalkers "Dylan meets Cash"
DESCRIPTION:Zwei Legenden\,  zwei Freunde. Geprägt von gegenseitigem Respe
 kt und Bewunderung für die Musik des anderen. Johnny Cash und Bob Dylan tr
 afen sich im Februar 1969 zu ihrer ersten und einzigen Studiosession in Nas
 hville. In entspannter Atmosphäre spielten die beiden spontan Countrysongs
 \,  Gospels und ihre eigenen Hits. Von allen aufgenommenen Songs[..]\nhttps
 ://schleswig-holstein.sh/blog/veranstaltungen/boostedt-hof-luebbe-the-linew
 alkers-dylan-meets-cash/
URL:https://schleswig-holstein.sh/blog/veranstaltungen/boostedt-hof-luebbe-the-linewalkers-dylan-meets-cash/
END:VEVENT
END:VCALENDAR