BEGIN:VCALENDAR
VERSION:2.0
PRODID:-//eventon.com NONSGML v1.0//EN
CALSCALE:GREGORIAN
METHOD:PUBLISH
BEGIN:VEVENT
UID:69e789bd01a2a
DTSTAMP:20260421T142917Z
DTSTART:20260524T070000Z
DTEND:20260525T160000Z
LOCATION:Landgestüt Traventhal Landgestüt\,  Traventhal 23795\,  DE
SUMMARY:21. Oldtimertreffen mit Teile-\,  Antik- und Trödelmarkt
DESCRIPTION:Das Treffen gilt in der Szene als eines der schönsten Nordeuts
 chlands. Der Antik- und Teilemarkt ist für viele Gäste ein echter Anziehu
 ngspunkt. Neben dem schönen Ambiente liegt der Erfolg in der Zwanglosigkei
 t des Treffens. Es wird keine Anmeldegebühr erhoben. Bunt gemischt steht d
 ann die ganze Oldtimerparade auf dem großen Reitplatz[..]\nhttps://schlesw
 ig-holstein.sh/blog/veranstaltungen/21-oldtimertreffen-mit-teile-antik-und-
 troedelmarkt/
URL:https://schleswig-holstein.sh/blog/veranstaltungen/21-oldtimertreffen-mit-teile-antik-und-troedelmarkt/
END:VEVENT
END:VCALENDAR