BEGIN:VCALENDAR
VERSION:2.0
PRODID:-//eventon.com NONSGML v1.0//EN
CALSCALE:GREGORIAN
METHOD:PUBLISH
BEGIN:VEVENT
UID:69eb49a38e174
DTSTAMP:20260424T104451Z
DTSTART:20260404T150000Z
DTEND:20261220T160000Z
LOCATION:Landgestüt Traventhal Landgestüt\,  Traventhal 23795\,  DE
SUMMARY:Wunderkammer Traventhal
DESCRIPTION:Eine Wunderkammer\,  was ist das? Eine Wunderkammer ist eine Ka
 mmer voller Wunder\,  eine Kammer\,  in der man sich wundern kann. Und spez
 iell die Traventhaler Wunderkammer? Sie stellt ein Gesamtkunstwerk dar\,  s
 ie ist ein Wimmelbild der Sinne. Nach dem Eintritt durch die rote Tür geht
  man vorbei am Großmodell des Hamburger[..]\nhttps://schleswig-holstein.sh
 /blog/veranstaltungen/wunderkammer-traventhal/
URL:https://schleswig-holstein.sh/blog/veranstaltungen/wunderkammer-traventhal/
END:VEVENT
END:VCALENDAR