BEGIN:VCALENDAR
VERSION:2.0
PRODID:-//eventon.com NONSGML v1.0//EN
CALSCALE:GREGORIAN
METHOD:PUBLISH
BEGIN:VEVENT
UID:69e7341aa999e
DTSTAMP:20260421T082354Z
DTSTART:20260306T183000Z
DTEND:20260306T210000Z
LOCATION:KBH Marne SchillerstraÃŸe 11\,  25709 Marne
SUMMARY:Dad's Phonkey
DESCRIPTION:AusschlieÃŸlich a-cappella entwickelt Christian Padberg live mi
 t seiner Loopstation vielstimmige Songs und Klangbilder zwischen Jazz und K
 lassik\,  Funk und Soul\,  Folklore\,  Weltmusik und Pop. Alles ist grundsÃ
 ¤tzlich improvisiert. Der SÃ¤nger aus Bonn macht mit seiner Stimme\,  was i
 hm gerade durch die Birne fliegt: Er groovt\,  brabbelt\,  fetzt\,  schmach
 tet &#8230; &#8211;[..]\nhttps://schleswig-holstein.sh/blog/veranstaltungen
 /dads-phonkey/
URL:https://schleswig-holstein.sh/blog/veranstaltungen/dads-phonkey/
END:VEVENT
END:VCALENDAR