BEGIN:VCALENDAR
VERSION:2.0
PRODID:-//eventon.com NONSGML v1.0//EN
CALSCALE:GREGORIAN
METHOD:PUBLISH
BEGIN:VEVENT
UID:69e7464803ae0
DTSTAMP:20260421T094128Z
DTSTART:20260307T183000Z
DTEND:20260307T210000Z
LOCATION:KBH Marne Schillerstraße 11\,  25709 Marne
SUMMARY:"Also\,  mir wär sie zu dünn!"
DESCRIPTION:Christine Schützes aktuelles Solo feiert den feinen Unterschie
 d: zwischen vermeintlich weiblichen und männlichen Idealtypen. Es geht um 
 Liebe und um die Worte\,  die wir versuchen\,  dafür zu finden. Christine 
 Schütze zeigt uns den Alltag mit all den Plattitüden der deutschen Sprach
 e\,  und was man damit wortgewaltig und klavierstimmig so alles[..]\nhttps:
 //schleswig-holstein.sh/blog/veranstaltungen/also-mir-waer-sie-zu-duenn/
URL:https://schleswig-holstein.sh/blog/veranstaltungen/also-mir-waer-sie-zu-duenn/
END:VEVENT
END:VCALENDAR