BEGIN:VCALENDAR
VERSION:2.0
PRODID:-//eventon.com NONSGML v1.0//EN
CALSCALE:GREGORIAN
METHOD:PUBLISH
BEGIN:VEVENT
UID:69e7729719688
DTSTAMP:20260421T125031Z
DTSTART:20260314T183000Z
DTEND:20260314T210000Z
LOCATION:KBH Marne Schillerstraße 11\,  25709 Marne
SUMMARY:Trio Adorno
DESCRIPTION:Das Trio Adorno gilt als eines der spannendsten Ensembles seine
 r Generation. 2003 gegründet\,  wurde das Trio bei nahezu allen renommiert
 en Kammermusikwettbewerben mit Preisen ausgezeichnet\,  u.a. beim Deutschen
  Musikwettbewerb\,  der Osaka Chamber Music Competition\,  der Melbourne Ch
 amber Music Competition\,  dem Internationalen Johannes Brahms Wettbewerb s
 owie als Semi-Finalist beim ARD Musikwettbewerb. Zudem[..]\nhttps://schlesw
 ig-holstein.sh/blog/veranstaltungen/trio-adorno/
URL:https://schleswig-holstein.sh/blog/veranstaltungen/trio-adorno/
END:VEVENT
END:VCALENDAR