BEGIN:VCALENDAR
VERSION:2.0
PRODID:-//eventon.com NONSGML v1.0//EN
CALSCALE:GREGORIAN
METHOD:PUBLISH
BEGIN:VEVENT
UID:69e78ae7a09b7
DTSTAMP:20260421T143415Z
DTSTART:20260322T133000Z
DTEND:20260517T150000Z
LOCATION:Palais Quasi non Possidentes Am Hafen 46\,  Glückstadt
SUMMARY:Glückstadt: OHNE HIN UND ÜBER DIES\,  Bildobjekte und Skulptur von Peter F. Piening und Volker Tiemann
DESCRIPTION:Erstmals stellen beide Bildhauer zusammen aus: Volker Tiemann u
 nd Peter F. Piening. Ihre Werke erkennt man sofort\,  denn beide haben eine
  beeindruckende\,  ganz besondere künstlerische Handschrift entwickelt! Be
 ider Künstler Werkstoff ist Holz. Es fasziniert\,  wie Peter F. Piening (J
 g. 1942) und Volker Tiemann (Jg. 1963) das Material ästhetisch in Form[..]
 \nhttps://schleswig-holstein.sh/blog/veranstaltungen/glueckstadt-ohne-hin-u
 nd-ueber-dies-bildobjekte-und-skulptur-von-peter-f-piening-und-volker-tiema
 nn/
URL:https://schleswig-holstein.sh/blog/veranstaltungen/glueckstadt-ohne-hin-und-ueber-dies-bildobjekte-und-skulptur-von-peter-f-piening-und-volker-tiemann/
END:VEVENT
END:VCALENDAR