BEGIN:VCALENDAR
VERSION:2.0
PRODID:-//eventon.com NONSGML v1.0//EN
CALSCALE:GREGORIAN
METHOD:PUBLISH
BEGIN:VEVENT
UID:69e73412a7de3
DTSTAMP:20260421T082346Z
DTSTART:20260528T120000Z
DTEND:20260528T150000Z
LOCATION:Künstlerhaus Lauenburg Elbstrasse 54\,  21481 Lauenburg
SUMMARY:Lauenburg: Resonanzen – Ausstellung im Künstler:innenhaus
DESCRIPTION:Unter dem Titel „Resonanzen“ entsteht über das ganze Jahr 
 2026 eine fortlaufende Ausstellung\,  in der sich Künstler:innen mit unter
 schiedlichen Themen unserer Zeit auseinandersetzen. Krisen und Veränderung
 en erzeugen Unsicherheit und Ängste. Aber kann man Unsicherheit nicht auch
  als etwas Produktives verstehen\,  aus dem neue positive Narrative für di
 e Zukunft entstehen? Und[..]\nhttps://schleswig-holstein.sh/blog/veranstalt
 ungen/lauenburg-resonanzen-ausstellung-im-kuenstlerinnenhaus-3/var/ri-16.l-
 L1
URL:https://schleswig-holstein.sh/blog/veranstaltungen/lauenburg-resonanzen-ausstellung-im-kuenstlerinnenhaus-3/var/ri-16.l-L1
END:VEVENT
END:VCALENDAR