BEGIN:VCALENDAR
VERSION:2.0
PRODID:-//eventon.com NONSGML v1.0//EN
CALSCALE:GREGORIAN
METHOD:PUBLISH
BEGIN:VEVENT
UID:69e7c61f883ac
DTSTAMP:20260421T184655Z
DTSTART:20260208T130000Z
DTEND:20260208T160000Z
LOCATION:
SUMMARY:Lauenburg: Resonanzen – Ausstellung im Künstler:innenhaus
DESCRIPTION:Unter dem Titel „Resonanzen“ entsteht über das ganze Jahr 
 2026 eine fortlaufende Ausstellung\,  in der sich Künstler:innen mit unter
 schiedlichen Themen unserer Zeit auseinandersetzen. Krisen und Veränderung
 en erzeugen Unsicherheit und Ängste. Aber kann man Unsicherheit nicht auch
  als etwas Produktives verstehen\,  aus dem neue positive Narrative für di
 e Zukunft entstehen? Und[..]\nhttps://schleswig-holstein.sh/blog/veranstalt
 ungen/lauenburg-resonanzen-ausstellung-im-kuenstlerinnenhaus/
URL:https://schleswig-holstein.sh/blog/veranstaltungen/lauenburg-resonanzen-ausstellung-im-kuenstlerinnenhaus/
END:VEVENT
END:VCALENDAR