BEGIN:VCALENDAR
VERSION:2.0
PRODID:-//eventon.com NONSGML v1.0//EN
CALSCALE:GREGORIAN
METHOD:PUBLISH
BEGIN:VEVENT
UID:69e74955b1ae7
DTSTAMP:20260421T095429Z
DTSTART:20260215T130000Z
DTEND:20260215T160000Z
LOCATION:
SUMMARY:Lauenburg: Resonanzen – Ausstellung im Künstler:innenhaus
DESCRIPTION:Unter dem Titel „Resonanzen“ entsteht über das ganze Jahr 
 2026 eine fortlaufende Ausstellung\,  in der sich Künstler:innen mit unter
 schiedlichen Themen unserer Zeit auseinandersetzen. Krisen und Veränderung
 en erzeugen Unsicherheit und Ängste. Aber kann man Unsicherheit nicht auch
  als etwas Produktives verstehen\,  aus dem neue positive Narrative für di
 e Zukunft entstehen? Und[..]\nhttps://schleswig-holstein.sh/blog/veranstalt
 ungen/lauenburg-resonanzen-ausstellung-im-kuenstlerinnenhaus/var/ri-1.l-L1
URL:https://schleswig-holstein.sh/blog/veranstaltungen/lauenburg-resonanzen-ausstellung-im-kuenstlerinnenhaus/var/ri-1.l-L1
END:VEVENT
END:VCALENDAR