BEGIN:VCALENDAR
VERSION:2.0
PRODID:-//eventon.com NONSGML v1.0//EN
CALSCALE:GREGORIAN
METHOD:PUBLISH
BEGIN:VEVENT
UID:69e74c854753b
DTSTAMP:20260421T100805Z
DTSTART:20260215T140000Z
DTEND:20260215T160000Z
LOCATION:Künstlerhaus Lauenburg Elbstrasse 54\,  21481 Lauenburg
SUMMARY:Lauenburg: Sprechen und Hören – Künstler:innengespräch im Künstlerhaus Lauenburg
DESCRIPTION:Das Künstler:innenhaus Lauenburg lädt zum gemeinsamen Spreche
 n und Hören mit den Künstler:innen Eveline Vervliet und Felix Mayer ein. 
 Im Rahmen der Ausstellung „Resonanzen“ stellen sie ihre künstlerische 
 Arbeit vor. Eveline Vervliet ist eine in Hamburg lebende\,  international r
 enommierte belgisch-flämische Komponistin. Für die Ausstellung „Resonan
 zen“ in der Stadtgalerie KH Lauenburg entwickelt[..]\nhttps://schleswig-h
 olstein.sh/blog/veranstaltungen/lauenburg-sprechen-und-hoeren-kuenstlerinne
 ngespraech-im-kuenstlerhaus-lauenburg/
URL:https://schleswig-holstein.sh/blog/veranstaltungen/lauenburg-sprechen-und-hoeren-kuenstlerinnengespraech-im-kuenstlerhaus-lauenburg/
END:VEVENT
END:VCALENDAR