BEGIN:VCALENDAR
VERSION:2.0
PRODID:-//eventon.com NONSGML v1.0//EN
CALSCALE:GREGORIAN
METHOD:PUBLISH
BEGIN:VEVENT
UID:69e772d330195
DTSTAMP:20260421T125131Z
DTSTART:20260320T170000Z
DTEND:20260322T160000Z
LOCATION:24340 Eckernförde Gudewerdtstraße 71
SUMMARY:Kunstwochenende auf der Carlshöhe
DESCRIPTION:Kunstwochenende auf der Carlshöhe – 20.–22. März 2026 *Hi
 ghlight Sonntag\,  22.03. | 11–17 Uhr Offene Ateliers in Häusern 44\,  6
 0\,  78 – viele der 70 Carlshöhe-Kunstschaffenden öffnen Türen! Malere
 i\,  Keramik\,  Skulptur – hautnah erleben! *Gruppenausstellung 20.-22.3.
  im Forum Freiraum\,  Haus 60\,  1. OG Zu sehen sind Arbeiten von den Naku-
 Mitgliedern[..]\nhttps://schleswig-holstein.sh/blog/veranstaltungen/kunstwo
 chenende-auf-der-carlshoehe/
URL:https://schleswig-holstein.sh/blog/veranstaltungen/kunstwochenende-auf-der-carlshoehe/
END:VEVENT
END:VCALENDAR