BEGIN:VCALENDAR
VERSION:2.0
PRODID:-//eventon.com NONSGML v1.0//EN
CALSCALE:GREGORIAN
METHOD:PUBLISH
BEGIN:VEVENT
UID:69e758173c3a3
DTSTAMP:20260421T105727Z
DTSTART:20260309T130000Z
DTEND:20260311T160000Z
LOCATION:Kunsttankstelle - Defacto Art e.V. Wallstrasse 3-5\,  23560 Lübeck
SUMMARY:Lübeck Fake Views – ein Projekt zum genauen Hinsehen und Mitraten!
DESCRIPTION:Was sind Fake News\,  was ist seriöse Information? Alle Welt b
 lickt gebannt auf so genannte Deepfakes\,  also auf mittels KI erstellte od
 er veränderte Bilder und Videos. Dabei wird leicht vergessen\,  dass es zu
 r Manipulation keiner KI bedarf. So hat allein die Perspektive der Fotograf
 in und des Fotografen einen entscheidenden Einfluss[..]\nhttps://schleswig-
 holstein.sh/blog/veranstaltungen/luebeck-fake-views-ein-projekt-zum-genauen
 -hinsehen-und-mitraten-2/
URL:https://schleswig-holstein.sh/blog/veranstaltungen/luebeck-fake-views-ein-projekt-zum-genauen-hinsehen-und-mitraten-2/
END:VEVENT
END:VCALENDAR