BEGIN:VCALENDAR
VERSION:2.0
PRODID:-//eventon.com NONSGML v1.0//EN
CALSCALE:GREGORIAN
METHOD:PUBLISH
BEGIN:VEVENT
UID:69ecda561a22a
DTSTAMP:20260425T151430Z
DTSTART:20260827T180000Z
DTEND:20260827T191200Z
LOCATION:Kloster Cismar Bäderstr. 42\,  23743 Grömitz
SUMMARY:Bosche erzählt – Die falsche Reliquie
DESCRIPTION:Bosche erzählt &#8211; Die falsche Reliquie nach dem historisc
 hen Kriminalroman von Renata Petry Closter Cismar:1501\,  unterdessen haben
  wir eine moderne Zeit. Ansonsten würde ich mich nicht trauen\,  über die
 se Ungeheuerlichkeit zu berichten\,  die ich vor 40 Jahren aufgedeckt und d
 ie mir immer noch wie ein böser Traum vorkommt. Mein Name[..]\nhttps://sch
 leswig-holstein.sh/blog/veranstaltungen/bosche-erzaehlt-die-falsche-reliqui
 e-4/
URL:https://schleswig-holstein.sh/blog/veranstaltungen/bosche-erzaehlt-die-falsche-reliquie-4/
END:VEVENT
END:VCALENDAR