BEGIN:VCALENDAR
VERSION:2.0
PRODID:-//eventon.com NONSGML v1.0//EN
CALSCALE:GREGORIAN
METHOD:PUBLISH
BEGIN:VEVENT
UID:69e773cb2a3ae
DTSTAMP:20260421T125539Z
DTSTART:20260308T100000Z
DTEND:20260308T130000Z
LOCATION:Kulturhaus Wilster m Markt 14a\,  Wilster 25554\,  DE\,  Wilster\,  DE\,  Wilster\,  DE\,  Wilster\,  DE\,  Wilster\,  DE\,  Wilster\,  DE
SUMMARY:Workshop: Tango Walzer - Kurs für Fortgeschrittene
DESCRIPTION:Rhythmisch\,  auch für europäische Ohren\,  als Walzer gleich
  erkennbar\,  unterscheidet sich diese Musikgattung nicht desto trotz erheb
 lich von dem allseits beliebten Wiener Walzer. Die schwungvolle Verträumth
 eit ist aber geblieben\,  dazu kommt eine grundsätzlich geschlossenere Uma
 rmung\,  wie wir sie kennen und lieben gelernt haben beim argentinischen Ta
 ngo. Wir werden unterschiedliche\,  tänzerische[..]\nhttps://schleswig-hol
 stein.sh/blog/veranstaltungen/workshop-tango-walzer-kurs-fuer-fortgeschritt
 ene/
URL:https://schleswig-holstein.sh/blog/veranstaltungen/workshop-tango-walzer-kurs-fuer-fortgeschrittene/
END:VEVENT
END:VCALENDAR