BEGIN:VCALENDAR
VERSION:2.0
PRODID:-//eventon.com NONSGML v1.0//EN
CALSCALE:GREGORIAN
METHOD:PUBLISH
BEGIN:VEVENT
UID:69e78ad14c78e
DTSTAMP:20260421T143353Z
DTSTART:20260319T180000Z
DTEND:20260319T190000Z
LOCATION:Ostholstein-Museum Schlossplatz 1\,  23701 Eutin
SUMMARY:Nachts im Museum
DESCRIPTION:Kunst sieht im Tageslicht oder perfekt ausgeleuchtet natürlich
  immer toll aus &#8211; aber wie wirkt ein altes Gemälde oder eine moderne
  Skulptur in Schein einer Taschenlampe? Und wie sieht es im Museum aus\,  w
 enn abends alle Lichter gelöscht sind und keiner mehr da ist? Wir machen u
 ns mit Taschenlampen auf[..]\nhttps://schleswig-holstein.sh/blog/veranstalt
 ungen/nachts-im-museum-2/
URL:https://schleswig-holstein.sh/blog/veranstaltungen/nachts-im-museum-2/
END:VEVENT
END:VCALENDAR