BEGIN:VCALENDAR
VERSION:2.0
PRODID:-//eventon.com NONSGML v1.0//EN
CALSCALE:GREGORIAN
METHOD:PUBLISH
BEGIN:VEVENT
UID:69e63b260b520
DTSTAMP:20260420T144142Z
DTSTART:20260321T100000Z
DTEND:20260321T113000Z
LOCATION:Ostholstein-Museum Schlossplatz 1\,  23701 Eutin
SUMMARY:Oster-Werkstatt
DESCRIPTION:Der Frühling hat schon viele große Künstlerinne und Künstle
 r zu den tollsten Kunstwerken inspiriert &#8211; das nehmen wir uns zum Vor
 bild und beweisen\,  dass man zu Ostern nicht nur Eier anmalen kann. aus al
 ten Eierkartons und vielen bunten Fraben lässt hier jede Nachwuchskünstle
 rin und jeder Nachwuchskünstler ein echtes Frühlingskunstwerk entstehen.[
 ..]\nhttps://schleswig-holstein.sh/blog/veranstaltungen/oster-werkstatt/
URL:https://schleswig-holstein.sh/blog/veranstaltungen/oster-werkstatt/
END:VEVENT
END:VCALENDAR