BEGIN:VCALENDAR
VERSION:2.0
PRODID:-//eventon.com NONSGML v1.0//EN
CALSCALE:GREGORIAN
METHOD:PUBLISH
BEGIN:VEVENT
UID:69e774414b1ab
DTSTAMP:20260421T125737Z
DTSTART:20260418T090000Z
DTEND:20260418T090000Z
LOCATION:Deutsches Hafenmuseum Schuppen 50 a / Kleiner Grasbrook \,  20457 Hamburg
SUMMARY:Ahoi von Boord der PEKING
DESCRIPTION:Plattdeutsche Führung / 15 Euro Eintritt / Anmeldung bis 14.04
 .2026 unter: ursula.richenberger@deham.shmh.de\nhttps://schleswig-holstein.
 sh/blog/veranstaltungen/ahoi-von-boord-der-peking/
URL:https://schleswig-holstein.sh/blog/veranstaltungen/ahoi-von-boord-der-peking/
END:VEVENT
END:VCALENDAR