BEGIN:VCALENDAR
VERSION:2.0
PRODID:-//eventon.com NONSGML v1.0//EN
CALSCALE:GREGORIAN
METHOD:PUBLISH
BEGIN:VEVENT
UID:69e74c2836da7
DTSTAMP:20260421T100632Z
DTSTART:20260418T160000Z
DTEND:20260417T220000Z
LOCATION:Kulturkreis die Kate e.V.\,  Volksdorf Eulenkrugstr. 60 \,  22359 Hamburg
SUMMARY:Konzert mit der Platt-Band WATTENLÄUFER-Rock op Platt
DESCRIPTION:Konzertbeginn: 18:00 Uhr Konzertdauer voraussichtlich 2 &#8211;
  2\, 5 Stunden (incl. Pause) Eintritt: 20 Euro\,  Anmeldung unter: kunstkat
 e.volksdorf@googlemail.com oder Tel. Bärbel Krämer 0172 4049762\nhttps://
 schleswig-holstein.sh/blog/veranstaltungen/konzert-mit-der-platt-band-watte
 nlaeufer-rock-op-platt/
URL:https://schleswig-holstein.sh/blog/veranstaltungen/konzert-mit-der-platt-band-wattenlaeufer-rock-op-platt/
END:VEVENT
END:VCALENDAR