BEGIN:VCALENDAR
VERSION:2.0
PRODID:-//eventon.com NONSGML v1.0//EN
CALSCALE:GREGORIAN
METHOD:PUBLISH
BEGIN:VEVENT
UID:69eb53d7c517d
DTSTAMP:20260424T112823Z
DTSTART:20260313T160000Z
DTEND:20260430T150000Z
LOCATION:Galerie Der Lokschuppen 24768 Rendsburg\,  Am Kreishafen 35
SUMMARY:Rendsburg: „Alpenglüh’n“
DESCRIPTION:In der Gegenwart bewegt sich das Verhältnis von Natur und Mens
 ch in einem Verhältnis der Gefährdung. Das Streben nach Beherrschung wend
 et sich gegen den Menschen. Die Reflexion des Geschehens spiegelt sich im B
 egriff des Anthropozäns wider\,  d. h. durch die Eingriffe des Menschen in
  das Ökosystem der Erde ist diese[..]\nhttps://schleswig-holstein.sh/blog/
 veranstaltungen/rendsburg-alpengluehn/
URL:https://schleswig-holstein.sh/blog/veranstaltungen/rendsburg-alpengluehn/
END:VEVENT
END:VCALENDAR