BEGIN:VCALENDAR
VERSION:2.0
PRODID:-//eventon.com NONSGML v1.0//EN
CALSCALE:GREGORIAN
METHOD:PUBLISH
BEGIN:VEVENT
UID:69e77293b3f43
DTSTAMP:20260421T125027Z
DTSTART:20260513T153000Z
DTEND:20260513T173000Z
LOCATION:Industriemuseum Elmshorn Catharinenstraße 1\,  25335 Elmshorn
SUMMARY:Neuer Workshop: Offenes Skizzenbuch
DESCRIPTION:Im Skizzenbuch entsteht ein Raum\,  in dem Sie ausprobieren\,  
 beobachten und Sie sich mit sich selbst verbinden können. Ohne Druck\,  oh
 ne perfekte Seiten – nur mit Neugier und dem\,  was sich zeigen möchte. 
 Im Industriemuseum treffen wir uns zu kleinen kreativen Einheiten. Mit Lini
 e\,  Farbe\,  Collage und einfachen Impulsen erkunden[..]\nhttps://schleswi
 g-holstein.sh/blog/veranstaltungen/neuer-workshop-offenes-skizzenbuch/
URL:https://schleswig-holstein.sh/blog/veranstaltungen/neuer-workshop-offenes-skizzenbuch/
END:VEVENT
END:VCALENDAR