BEGIN:VCALENDAR
VERSION:2.0
PRODID:-//eventon.com NONSGML v1.0//EN
CALSCALE:GREGORIAN
METHOD:PUBLISH
BEGIN:VEVENT
UID:69e775b524414
DTSTAMP:20260421T130349Z
DTSTART:20260224T180000Z
DTEND:20260224T225900Z
LOCATION:Eutiner Landesbibliothek Schlosspatz 4\,  23701 Eutin
SUMMARY:Eutin: Der Küchengarten Ludwig des Vierzehnten
DESCRIPTION:Öffentlicher Abendvortrag von Esther Dörrhöfer anlässlich d
 er Eröffnung der Kabinettausstellung „(Bilder-) Buchgärten und andere G
 artenfreuden. Vom Küchengarten des Sonnenkönigs bis zu den Gärten in Jan
 e Austens Romanen“ Der Eintritt ist frei.\nhttps://schleswig-holstein.sh/
 blog/veranstaltungen/der-kuechengarten-ludwig-des-vierzehnten/
URL:https://schleswig-holstein.sh/blog/veranstaltungen/der-kuechengarten-ludwig-des-vierzehnten/
END:VEVENT
END:VCALENDAR