BEGIN:VCALENDAR
VERSION:2.0
PRODID:-//eventon.com NONSGML v1.0//EN
CALSCALE:GREGORIAN
METHOD:PUBLISH
BEGIN:VEVENT
UID:69e63d995c22f
DTSTAMP:20260420T145209Z
DTSTART:20260225T090000Z
DTEND:20260620T080000Z
LOCATION:Eutiner Landesbibliothek Schlosspatz 4\,  23701 Eutin
SUMMARY:Eutin: Kabinett-Ausstellung â€ž(Bilder-) BuchgÃ¤rten und andere Gartenfreuden. Vom KÃ¼chengarten des SonnenkÃ¶nigs bis zu den GÃ¤rten in Jane Austens Romanenâ€œ
DESCRIPTION:GÃ¤rten und BÃ¼cher sind von jeher die ideale Kombination â€“ b
 eide sind wie nichts anderes dazu geeignet\,  darin einzutauchen\,  die See
 le baumeln\,  sich inspirieren zu lassen. Und das klappt in beide Richtunge
 n: Lesende (und natÃ¼rlich auch Schreibende) lassen sich von GÃ¤rten und GÃ
 ¤rtnernde sich von BÃ¼chern inspirieren. Die Geschichte der[..]\nhttps://sc
 hleswig-holstein.sh/blog/veranstaltungen/eutin-kabinett-ausstellung-bilder-
 buchgaerten-und-andere-gartenfreuden-vom-kuechengarten-des-sonnenkoenigs-bi
 s-zu-den-gaerten-in-jane-austens-romanen/
URL:https://schleswig-holstein.sh/blog/veranstaltungen/eutin-kabinett-ausstellung-bilder-buchgaerten-und-andere-gartenfreuden-vom-kuechengarten-des-sonnenkoenigs-bis-zu-den-gaerten-in-jane-austens-romanen/
END:VEVENT
END:VCALENDAR