BEGIN:VCALENDAR
VERSION:2.0
PRODID:-//eventon.com NONSGML v1.0//EN
CALSCALE:GREGORIAN
METHOD:PUBLISH
BEGIN:VEVENT
UID:69e63d9c98d29
DTSTAMP:20260420T145212Z
DTSTART:20260131T140000Z
DTEND:20260315T140000Z
LOCATION:CarpArten Galerie Ferdinand-Porsche-Ring 21\,  Tarp 24963\,  Deutschland
SUMMARY:Ein halbes Jahrhundert
DESCRIPTION:Am 31. Januar um 15:00 Uhr laden wir Sie in der CarpArten Galer
 ie zur Vernissage mit dem Thema &#8220; Ein Halbes Jahrhundert&#8220; ein. 
 Was bleibt von 50 Jahren? Was verändert sich\,  was besteht? In unserer ko
 mmenden Hauptausstellung „Ein halbes Jahrhundert“ begeben wir uns auf e
 ine Spurensuche durch Zeit\,  Erfahrung und[..]\nhttps://schleswig-holstein
 .sh/blog/veranstaltungen/ein-halbes-jahrhundert/
URL:https://schleswig-holstein.sh/blog/veranstaltungen/ein-halbes-jahrhundert/
END:VEVENT
END:VCALENDAR