BEGIN:VCALENDAR
VERSION:2.0
PRODID:-//eventon.com NONSGML v1.0//EN
CALSCALE:GREGORIAN
METHOD:PUBLISH
BEGIN:VEVENT
UID:69e653574197a
DTSTAMP:20260420T162455Z
DTSTART:20260411T110000Z
DTEND:20260412T160000Z
LOCATION:Kunsttankstelle - Defacto Art e.V. Wallstrasse 3-5\,  23560 Lübeck
SUMMARY:Gemeinschaftsausstellung „Schnittwerk“
DESCRIPTION:Eine Gemeinschaftsausstellung von Sieglinde Thot\,  Ingrid Frie
 drichsen und Monika Callies In der Ausstellung Schnittwerk widmen sich dr
 ei Künstlerinnen der faszinierend vielfältigen Technik der Collage. Die g
 ezeigten Werke sind ebenso unterschiedlich wie spannend – seien Sie neugi
 erig und lassen Sie sich überraschen! Sieglinde Thot\,  bislang vor allem 
 in der Malerei zu Hause\,  hat[..]\nhttps://schleswig-holstein.sh/blog/vera
 nstaltungen/gemeinschaftsausstellung-schnittwerk/
URL:https://schleswig-holstein.sh/blog/veranstaltungen/gemeinschaftsausstellung-schnittwerk/
END:VEVENT
END:VCALENDAR