BEGIN:VCALENDAR
VERSION:2.0
PRODID:-//eventon.com NONSGML v1.0//EN
CALSCALE:GREGORIAN
METHOD:PUBLISH
BEGIN:VEVENT
UID:69e63d9c1e903
DTSTAMP:20260420T145212Z
DTSTART:20260425T110000Z
DTEND:20260426T160000Z
LOCATION:Kunsttankstelle - Defacto Art e.V. Wallstrasse 3-5\,  23560 Lübeck
SUMMARY:Gemeinschaftsausstellung „Schnittwerk“
DESCRIPTION:Eine Gemeinschaftsausstellung von Sieglinde Thot\,  Ingrid Frie
 drichsen und Monika Callies In der Ausstellung Schnittwerk widmen sich dr
 ei Künstlerinnen der faszinierend vielfältigen Technik der Collage. Die g
 ezeigten Werke sind ebenso unterschiedlich wie spannend – seien Sie neugi
 erig und lassen Sie sich überraschen! Sieglinde Thot\,  bislang vor allem 
 in der Malerei zu Hause\,  hat[..]\nhttps://schleswig-holstein.sh/blog/vera
 nstaltungen/gemeinschaftsausstellung-schnittwerk/var/ri-4.l-L1
URL:https://schleswig-holstein.sh/blog/veranstaltungen/gemeinschaftsausstellung-schnittwerk/var/ri-4.l-L1
END:VEVENT
END:VCALENDAR