BEGIN:VCALENDAR
VERSION:2.0
PRODID:-//eventon.com NONSGML v1.0//EN
CALSCALE:GREGORIAN
METHOD:PUBLISH
BEGIN:VEVENT
UID:69e7836aa34a6
DTSTAMP:20260421T140218Z
DTSTART:20260315T110000Z
DTEND:20260412T150000Z
LOCATION:Museumsinsel Lüttenheid Lüttenheid 40\,  25746 Heide
SUMMARY:Heide: Auszeit – Inside
DESCRIPTION:Der Kunstverein Heide eröffnet seine erste Ausstellung in dies
 em Jahr mit drei Künstlern\,  die zwischen den Welten agieren. Die Verniss
 age findet statt am Sonntag\,  den 15. März 2026\,  um 12.00 Uhr in der Mu
 seumsinsel\,  Lüttenheid 40 in 25746 Heide. Sie sind herzlich eingeladen\,
   diesen drei Künstlern auf ihren Reisen und[..]\nhttps://schleswig-holste
 in.sh/blog/veranstaltungen/heide-auszeit-inside/
URL:https://schleswig-holstein.sh/blog/veranstaltungen/heide-auszeit-inside/
END:VEVENT
END:VCALENDAR