BEGIN:VCALENDAR
VERSION:2.0
PRODID:-//eventon.com NONSGML v1.0//EN
CALSCALE:GREGORIAN
METHOD:PUBLISH
BEGIN:VEVENT
UID:69e789c91a944
DTSTAMP:20260421T142929Z
DTSTART:20260419T160000Z
DTEND:20260419T180000Z
LOCATION:Museum Kunst der Westküste Hauptstraße 1\,  25938 Alkersum
SUMMARY:Alkersum: Jakob Schwerdtfeger
DESCRIPTION:Wir freuen uns sehr\,  Jakob Schwerdtfeger zum zweiten Mal im M
 KdW begrüßen zu dürfen. 2024 begeisterte er mit einer ausverkauften Lese
 show zu seinem Buch „Ich sehe was\,  was du nicht siehst\,  und das ist K
 unst“. Am Sonntag\,  19. April 2026\,  wird er sein aktuelles Kunstcomedy
 programm „Meisterwerk“ präsentieren. JAKOB SCHWERDTFEGER /[..]\nhttps:
 //schleswig-holstein.sh/blog/veranstaltungen/alkersum-jakob-schwerdtfeger/
URL:https://schleswig-holstein.sh/blog/veranstaltungen/alkersum-jakob-schwerdtfeger/
END:VEVENT
END:VCALENDAR