BEGIN:VCALENDAR
VERSION:2.0
PRODID:-//eventon.com NONSGML v1.0//EN
CALSCALE:GREGORIAN
METHOD:PUBLISH
BEGIN:VEVENT
UID:69e737c83f40d
DTSTAMP:20260421T083936Z
DTSTART:20260328T190000Z
DTEND:20260328T200000Z
LOCATION:Seebrücke Kellenhusen Strandpromenade 37\,  23746 Kellenhusen (Ostsee)
SUMMARY:Bosche erzählt
DESCRIPTION:Wo viel Licht ist\,  ist starker Schatten. Johann Wolfgang von 
 Goethe (1749 &#8211; 1832) Bosche erzählt &#8211; Märchen vom Licht und v
 om Leben Kellenhusen: Wenn zur EarthHour die Lichter verlöschen und nur no
 ch die Fackeln ihren Schein über den Strand werfen\,  ändert sich unsere 
 Wahrnehmung. Die Ohren weiten sich und[..]\nhttps://schleswig-holstein.sh/b
 log/veranstaltungen/bosche-erzaehlt-8/
URL:https://schleswig-holstein.sh/blog/veranstaltungen/bosche-erzaehlt-8/
END:VEVENT
END:VCALENDAR