BEGIN:VCALENDAR
VERSION:2.0
PRODID:-//eventon.com NONSGML v1.0//EN
CALSCALE:GREGORIAN
METHOD:PUBLISH
BEGIN:VEVENT
UID:69e77285a7870
DTSTAMP:20260421T125013Z
DTSTART:20260320T170000Z
DTEND:20260320T190000Z
LOCATION:KulturWerk Galerie Behrendt Esplanade 22 24534 Neumünster
SUMMARY:In Sichtweite
DESCRIPTION:Die KulturWerk Galerie Esplanade 22 lädt zur Vernissage dieser
  Ausstellung mit Emliy Hein und Tom Giesemann ein. EMILY HEIN studierte Kom
 munikationsdesign an der HAW in Hamburg und lebt in Neumünster. Das Ergebn
 is ihrer Bachelorarbeit „In Sichtweite&#8220;- Leben auf der Insel Pellwo
 rm &#8211; wird zu sehen sein. Großarti-ge Fotoportraits der Menschen[..]\
 nhttps://schleswig-holstein.sh/blog/veranstaltungen/in-sichtweite/
URL:https://schleswig-holstein.sh/blog/veranstaltungen/in-sichtweite/
END:VEVENT
END:VCALENDAR