BEGIN:VCALENDAR
VERSION:2.0
PRODID:-//eventon.com NONSGML v1.0//EN
CALSCALE:GREGORIAN
METHOD:PUBLISH
BEGIN:VEVENT
UID:69e74c81d3813
DTSTAMP:20260421T100801Z
DTSTART:20260307T110000Z
DTEND:20260411T140000Z
LOCATION:Galerie RIECK Carlshöhe Carlshöhe 78 | 24340 Eckerförde
SUMMARY:KUNST DES NORDENS - Dänemarks Klassische Moderne
DESCRIPTION:Am 07.03. eröffnet die neue Ausstellung der Galerie RIECK in E
 ckernförde. Im Fokus steht Dänemarks Klassische Moderne – eine Epoche v
 oller künstlerischer Umbrüche und mutiger Experimente. Es werden ca. 40 a
 usgewählte Werke jener Künstlergeneration gezeigt\,  die zwischen 1900 un
 d 1960 die neue Freiheit der Formen zu modernen Sichtweisen der Kunst[..]\n
 https://schleswig-holstein.sh/blog/veranstaltungen/kunst-des-nordens-daenem
 arks-klassische-moderne/
URL:https://schleswig-holstein.sh/blog/veranstaltungen/kunst-des-nordens-daenemarks-klassische-moderne/
END:VEVENT
END:VCALENDAR